Workbook

Sheet 総括表
B1: 令和6年度 財政状況資料集
B2: 総括表（市町村）
B3: 都道府県名 | L3: 長崎県 | W3: 市町村類型 | AC3: 中核市 | AM3: 指定団体等の指定状況 | AY3: 区分 | BN3: 令和6年度(千円) | BV3: 令和5年度(千円) | CD3: 区分 | CT3: 令和6年度(千円･％) | DB3: 令和5年度(千円･％)
AY4: 歳入総額 | BN4: 241262282 | BV4: 239245421 | CD4: 実質収支比率 | CT4: 1.2 | DB4: 5
AM5: 財政健全化等 | AU5: × | AY5: 歳出総額 | BN5: 237637609 | BV5: 231021714 | CD5: 経常収支比率 | CT5: 98.8 | DB5: 97.9
B6: 市町村名 | L6: 長崎市 | W6: 地方交付税種地 | AC6: 1-6 | AM6: 財源超過 | AU6: × | AY6: 歳入歳出差引 | BN6: 3624673 | BV6: 8223707 | CD6: (※1) | CT6: 99.8 | DB6: 100
AM7: 首都 | AU7: × | AY7: 翌年度に繰越すべき財源 | BN7: 2439558 | BV7: 3184557 | CD7: 標準財政規模 | CT7: 102172438 | DB7: 100530137
AM8: 近畿 | AU8: × | AY8: 実質収支 | BN8: 1185115 | BV8: 5039150 | CD8: 財政力指数 | CT8: 0.57 | DB8: 0.57
B9: 人口 | L9: 令和2年国調(人) | R9: 409118 | W9: 産業構造 (※5) | AM9: 中部 | AU9: × | AY9: 単年度収支 | BN9: -3854035 | BV9: -1819883 | CD9: 公債費負担比率 | CT9: 18.5 | DB9: 16.9
L10: 平成27年国調(人) | R10: 429508 | AM10: 過疎 | AU10: ○ | AY10: 積立金 | BN10: 2537501 | BV10: 4323599 | CD10: 健全化判断比率
L11: 増減率 (％) | R11: -4.7 | AM11: 山振 | AU11: × | AY11: 繰上償還金 | BN11: 1290156 | BV11: 0 | CD11: 実質赤字比率 | CT11: - | DB11: -
B12: 住民基本台帳人口 (※7) | L12: 令07.01.01(人) | R12: 390551 | W12: 区分 | AC12: 令和2年国調 | AH12: 平成27年国調 | AM12: 低開発 | AU12: × | AY12: 積立金取崩し額 | BN12: 1000000 | BV12: 2305073 | CD12: 連結実質赤字比率 | CT12: - | DB12: -
M13: うち日本人(人) | R13: 385642 | W13: 第1次 | AC13: 3011 | AH13: 3658 | AM13: 指数表選定 | AU13: ○ | AY13: 実質単年度収支 | BN13: -1026378 | BV13: 198643 | CD13: 実質公債費比率 | CT13: 10.4 | DB13: 10.4
L14: 令06.01.01(人) | R14: 395843 | AC14: 1.7 | AH14: 2 | CD14: 将来負担比率 | CT14: 91.6 | DB14: 96
M15: うち日本人(人) | R15: 391500 | W15: 第2次 | AC15: 31003 | AH15: 36181 | AY15: 基準財政収入額 | BN15: 49662314 | BV15: 48673290 | CD15: 資金不足比率 (※4)
L16: 増減率 (％) | R16: -1.3 | AC16: 17.3 | AH16: 19.4 | AY16: 基準財政需要額 | BN16: 88612136 | BV16: 85418634
M17: うち日本人(％) | R17: -1.5 | W17: 第3次 | AC17: 145240 | AH17: 146548 | AY17: 標準税収入額等 | BN17: 63054998 | BV17: 61610770
B18: 面積 (k㎡) | L18: 405.69 | AC18: 81 | AH18: 78.6 | AY18: 経常経費充当一般財源等 | BN18: 104957485 | BV18: 101674903
B19: 人口密度 (人/k㎡) | L19: 1008 | AY19: 歳入一般財源等 | BN19: 137141212 | BV19: 140596263
B20: 世帯数 (世帯) | L20: 187423
B21: 職員の状況 (※8)
B22: 特別職等 | E22: 区分 | L22: 定数 | Q22: 1人あたり平均 給料月額(百円) | W22: 一般職員等(※6) | Z22: 区分 | AH22: 職員数 (人) | AM22: 給料月額 (百円) | AS22: 1人あたり平均 給料月額(百円) | AY22: 地方債現在高 | BN22: 255972442 | BV22: 263749826
AY23: うち公的資金 | BN23: 206026728 | BV23: 209302128
E24: 市区町村長 | L24: 1 | Q24: 10960 | Z24: 一般職員 | AH24: 2777 | AM24: 8505951 | AS24: 3063 | AY24: 地方債現在高（臨時財政対策債除き） | BN24: 188972830 | BV24: 191205449
E25: 副市区町村長 | L25: 2 | Q25: 8920 | Z25: うち消防職員 | AH25: 468 | AM25: 1358136 | AS25: 2902 | AY25: 債務負担行為額（支出予定額） | BN25: 91018559 | BV25: 71250954
E26: 教育長 | L26: 1 | Q26: 7100 | Z26: うち技能労務職員 | AH26: 198 | AM26: 547668 | AS26: 2766 | AY26: 収益事業収入 | BN26: - | BV26: -
E27: 議会議長 | L27: 1 | Q27: 7440 | Z27: 教育公務員 | AH27: 80 | AM27: 323145 | AS27: 4039 | AY27: 土地開発基金現在高 | BN27: 5899397 | BV27: 5925073
E28: 議会副議長 | L28: 1 | Q28: 6790 | Z28: 臨時職員 | AH28: - | AM28: - | AS28: - | AY28: 積立金 現在高 | BC28: 財政調整基金 | BN28: 14320874 | BV28: 12783373
E29: 議会議員 | L29: 38 | Q29: 6250 | Z29: 合計 | AH29: 2857 | AM29: 8829096 | AS29: 3090 | BC29: 減債基金 | BN29: 5679557 | BV29: 6376128
W30: ラスパイレス指数 | AH30: 97.6 | BC30: その他特定目的基金 | BN30: 22354391 | BV30: 22791258
C32: 一般会計等の一覧 | U32: 事業会計の一覧 | AM32: 公営企業（法適）の一覧 | BE32: 公営企業（法非適）の一覧 | BW32: 関係する一部事務組合等一覧 | CO32: 地方公社・第三セクター等一覧
C33: 項番 | E33: 会計名 | U33: 項番 | W33: 会計名 | AM33: 項番 | AO33: 会計名 | BE33: 項番 | BG33: 会計名 | BW33: 項番 | BY33: 組合等名 | CO33: 項番 | CQ33: 団体名 | DG33: (※3)
C34: =IF(E34="","",1) -> 1 | E34: =IF('各会計、関係団体の財政状況及び健全化判断比率'!B7="","",'各会計、関係団体の財政状況及び健全化判断比率'!B7) -> 一般会計 | U34: =IF(W34="","",MAX(C34:D43)+1) -> 6 | W34: =IF('各会計、関係団体の財政状況及び健全化判断比率'!B28="","",'各会計、関係団体の財政状況及び健全化判断比率'!B28) -> 国民健康保険事業特別会計 | AM34: =IF(AO34="","",MAX(C34:D43,U34:V43)+1) -> 10 | AO34: =IF('各会計、関係団体の財政状況及び健全化判断比率'!B32="","",'各会計、関係団体の財政状況及び健全化判断比率'!B32) -> 水道事業会計 | BE34: =IF(BG34="","",MAX(C34:D43,U34:V43,AM34:AN43)+1) -> 12 | BG34: =IF('各会計、関係団体の財政状況及び健全化判断比率'!B34="","",'各会計、関係団体の財政状況及び健全化判断比率'!B34) -> 観光施設事業特別会計 | BW34: =IF(BY34="","",MAX(C34:D43,U34:V43,AM34:AN43,BE34:BF43)+1) -> 14 | BY34: =IF('各会計、関係団体の財政状況及び健全化判断比率'!B68="","",'各会計、関係団体の財政状況及び健全化判断比率'!B68) -> 長崎県後期高齢者医療広域連合（普通会計） | CO34: =IF(CQ34="","",MAX(C34:D43,U34:V43,AM34:AN43,BE34:BF43,BW34:BX43)+1) -> 16 | CQ34: =IF('各会計、関係団体の財政状況及び健全化判断比率'!BS7="","",'各会計、関係団体の財政状況及び健全化判断比率'!BS7) -> （一財）クリーンながさき | DG34: =IF('各会計、関係団体の財政状況及び健全化判断比率'!BR7="","",'各会計、関係団体の財政状況及び健全化判断比率'!BR7)
C35: =IF(E35="","",C34+1) -> 2 | E35: =IF('各会計、関係団体の財政状況及び健全化判断比率'!B8="","",'各会計、関係団体の財政状況及び健全化判断比率'!B8) -> 土地取得特別会計 | U35: =IF(W35="","",U34+1) -> 7 | W35: =IF('各会計、関係団体の財政状況及び健全化判断比率'!B29="","",'各会計、関係団体の財政状況及び健全化判断比率'!B29) -> 介護保険事業特別会計 | AM35: =IF(AO35="","",AM34+1) -> 11 | AO35: =IF('各会計、関係団体の財政状況及び健全化判断比率'!B33="","",'各会計、関係団体の財政状況及び健全化判断比率'!B33) -> 下水道事業会計 | BE35: =IF(BG35="","",BE34+1) -> 13 | BG35: =IF('各会計、関係団体の財政状況及び健全化判断比率'!B35="","",'各会計、関係団体の財政状況及び健全化判断比率'!B35) -> 中央卸売市場事業特別会計 | BW35: =IF(BY35="","",BW34+1) -> 15 | BY35: =IF('各会計、関係団体の財政状況及び健全化判断比率'!B69="","",'各会計、関係団体の財政状況及び健全化判断比率'!B69) -> 長崎県後期高齢者医療広域連合（後期高齢者医療事業会計） | CO35: =IF(CQ35="","",CO34+1) -> 17 | CQ35: =IF('各会計、関係団体の財政状況及び健全化判断比率'!BS8="","",'各会計、関係団体の財政状況及び健全化判断比率'!BS8) -> （株）ながさきサステナエナジー | DG35: =IF('各会計、関係団体の財政状況及び健全化判断比率'!BR8="","",'各会計、関係団体の財政状況及び健全化判断比率'!BR8)
C36: =IF(E36="","",C35+1) -> 3 | E36: =IF('各会計、関係団体の財政状況及び健全化判断比率'!B9="","",'各会計、関係団体の財政状況及び健全化判断比率'!B9) -> 母子父子寡婦福祉資金貸付事業特別会計 | U36: =IF(W36="","",U35+1) -> 8 | W36: =IF('各会計、関係団体の財政状況及び健全化判断比率'!B30="","",'各会計、関係団体の財政状況及び健全化判断比率'!B30) -> 後期高齢者医療事業特別会計 | AM36: =IF(AO36="","",AM35+1) | BE36: =IF(BG36="","",BE35+1) | BW36: =IF(BY36="","",BW35+1) | BY36: =IF('各会計、関係団体の財政状況及び健全化判断比率'!B70="","",'各会計、関係団体の財政状況及び健全化判断比率'!B70) | CO36: =IF(CQ36="","",CO35+1) -> 18 | CQ36: =IF('各会計、関係団体の財政状況及び健全化判断比率'!BS9="","",'各会計、関係団体の財政状況及び健全化判断比率'!BS9) -> （一財）長崎市野母崎振興公社 | DG36: =IF('各会計、関係団体の財政状況及び健全化判断比率'!BR9="","",'各会計、関係団体の財政状況及び健全化判断比率'!BR9)
C37: =IF(E37="","",C36+1) -> 4 | E37: =IF('各会計、関係団体の財政状況及び健全化判断比率'!B10="","",'各会計、関係団体の財政状況及び健全化判断比率'!B10) -> 診療所事業特別会計 | U37: =IF(W37="","",U36+1) -> 9 | W37: =IF('各会計、関係団体の財政状況及び健全化判断比率'!B31="","",'各会計、関係団体の財政状況及び健全化判断比率'!B31) -> 駐車場事業特別会計 | AM37: =IF(AO37="","",AM36+1) | BE37: =IF(BG37="","",BE36+1) | BW37: =IF(BY37="","",BW36+1) | BY37: =IF('各会計、関係団体の財政状況及び健全化判断比率'!B71="","",'各会計、関係団体の財政状況及び健全化判断比率'!B71) | CO37: =IF(CQ37="","",CO36+1) -> 19 | CQ37: =IF('各会計、関係団体の財政状況及び健全化判断比率'!BS10="","",'各会計、関係団体の財政状況及び健全化判断比率'!BS10) -> （一財）長崎市勤労者サービスセンター | DG37: =IF('各会計、関係団体の財政状況及び健全化判断比率'!BR10="","",'各会計、関係団体の財政状況及び健全化判断比率'!BR10)
C38: =IF(E38="","",C37+1) -> 5 | E38: =IF('各会計、関係団体の財政状況及び健全化判断比率'!B11="","",'各会計、関係団体の財政状況及び健全化判断比率'!B11) -> 長崎市立病院機構病院事業債管理特別会計 | U38: =IF(W38="","",U37+1) | AM38: =IF(AO38="","",AM37+1) | BE38: =IF(BG38="","",BE37+1) | BW38: =IF(BY38="","",BW37+1) | BY38: =IF('各会計、関係団体の財政状況及び健全化判断比率'!B72="","",'各会計、関係団体の財政状況及び健全化判断比率'!B72) | CO38: =IF(CQ38="","",CO37+1) -> 20 | CQ38: =IF('各会計、関係団体の財政状況及び健全化判断比率'!BS11="","",'各会計、関係団体の財政状況及び健全化判断比率'!BS11) -> 長崎つきまち（株） | DG38: =IF('各会計、関係団体の財政状況及び健全化判断比率'!BR11="","",'各会計、関係団体の財政状況及び健全化判断比率'!BR11)
C39: =IF(E39="","",C38+1) | E39: =IF('各会計、関係団体の財政状況及び健全化判断比率'!B12="","",'各会計、関係団体の財政状況及び健全化判断比率'!B12) | U39: =IF(W39="","",U38+1) | AM39: =IF(AO39="","",AM38+1) | BE39: =IF(BG39="","",BE38+1) | BW39: =IF(BY39="","",BW38+1) | BY39: =IF('各会計、関係団体の財政状況及び健全化判断比率'!B73="","",'各会計、関係団体の財政状況及び健全化判断比率'!B73) | CO39: =IF(CQ39="","",CO38+1) -> 21 | CQ39: =IF('各会計、関係団体の財政状況及び健全化判断比率'!BS12="","",'各会計、関係団体の財政状況及び健全化判断比率'!BS12) -> （一財）長崎市地産地消振興公社 | DG39: =IF('各会計、関係団体の財政状況及び健全化判断比率'!BR12="","",'各会計、関係団体の財政状況及び健全化判断比率'!BR12)
C40: =IF(E40="","",C39+1) | E40: =IF('各会計、関係団体の財政状況及び健全化判断比率'!B13="","",'各会計、関係団体の財政状況及び健全化判断比率'!B13) | U40: =IF(W40="","",U39+1) | AM40: =IF(AO40="","",AM39+1) | BE40: =IF(BG40="","",BE39+1) | BW40: =IF(BY40="","",BW39+1) | BY40: =IF('各会計、関係団体の財政状況及び健全化判断比率'!B74="","",'各会計、関係団体の財政状況及び健全化判断比率'!B74) | CO40: =IF(CQ40="","",CO39+1) -> 22 | CQ40: =IF('各会計、関係団体の財政状況及び健全化判断比率'!BS13="","",'各会計、関係団体の財政状況及び健全化判断比率'!BS13) -> （公財）長崎市スポーツ協会 | DG40: =IF('各会計、関係団体の財政状況及び健全化判断比率'!BR13="","",'各会計、関係団体の財政状況及び健全化判断比率'!BR13)
C41: =IF(E41="","",C40+1) | E41: =IF('各会計、関係団体の財政状況及び健全化判断比率'!B14="","",'各会計、関係団体の財政状況及び健全化判断比率'!B14) | U41: =IF(W41="","",U40+1) | AM41: =IF(AO41="","",AM40+1) | BE41: =IF(BG41="","",BE40+1) | BW41: =IF(BY41="","",BW40+1) | BY41: =IF('各会計、関係団体の財政状況及び健全化判断比率'!B75="","",'各会計、関係団体の財政状況及び健全化判断比率'!B75) | CO41: =IF(CQ41="","",CO40+1) -> 23 | CQ41: =IF('各会計、関係団体の財政状況及び健全化判断比率'!BS14="","",'各会計、関係団体の財政状況及び健全化判断比率'!BS14) -> （一財）長崎ロープウェイ・水族館 | DG41: =IF('各会計、関係団体の財政状況及び健全化判断比率'!BR14="","",'各会計、関係団体の財政状況及び健全化判断比率'!BR14)
...

Sheet 普通会計の状況
DH1: 令和6年度 | DP1: 長崎県長崎市
B2: (1) 普通会計の状況（市町村）
B3: 歳入の状況（単位 千円・％） | AP3: 地方税の状況（単位 千円・％） | CD3: 歳出の状況（単位 千円・％）
B4: 区分 | R4: 決算額 | Z4: 構成比 | AD4: 経常一般財源等 | AL4: 構成比 | AP4: 区分 | BG4: 収入済額 | BO4: 構成比 | BS4: 超過課税分 | CD4: 目的別歳出の状況（単位 千円・％）
B5: 地方税 | R5: 55893276 | Z5: 23.2 | AD5: 51417264 | AL5: 48.9 | AP5: 普通税 | BG5: 49579617 | BO5: 88.7 | BS5: 1147263 | CD5: 区分 | CR5: 決算額 (A) | CZ5: 構成比 | DD5: (A)のうち普通建設事業費 | DQ5: (A)のうち充当一般財源等
B6: 地方譲与税 | R6: 995535 | Z6: 0.4 | AD6: 995535 | AL6: 0.9 | AP6: 法定普通税 | BG6: 49579617 | BO6: 88.7 | BS6: 1147263 | CD6: 議会費 | CR6: 802876 | CZ6: 0.3 | DD6: - | DQ6: 801635
B7: 利子割交付金 | R7: 25477 | Z7: 0 | AD7: 25477 | AL7: 0 | AP7: 市町村民税 | BG7: 23507842 | BO7: 42.1 | BS7: 1147263 | CD7: 総務費 | CR7: 22068379 | CZ7: 9.3 | DD7: 2654398 | DQ7: 16458608
B8: 配当割交付金 | R8: 287578 | Z8: 0.1 | AD8: 287578 | AL8: 0.3 | AP8: 個人均等割 | BG8: 581096 | BO8: 1 | BS8: - | CD8: 民生費 | CR8: 101918120 | CZ8: 42.9 | DD8: 998197 | DQ8: 48179035
B9: 株式等譲渡所得割交付金 | R9: 432027 | Z9: 0.2 | AD9: 432027 | AL9: 0.4 | AP9: 所得割 | BG9: 17764092 | BO9: 31.8 | BS9: - | CD9: 衛生費 | CR9: 31998765 | CZ9: 13.5 | DD9: 5226130 | DQ9: 12536286
B10: 分離課税所得割交付金 | R10: - | Z10: - | AD10: - | AL10: - | AP10: 法人均等割 | BG10: 1133800 | BO10: 2 | BS10: - | CD10: 労働費 | CR10: - | CZ10: - | DD10: - | DQ10: -
B11: 地方消費税交付金 | R11: 10450827 | Z11: 4.3 | AD11: 10450827 | AL11: 9.9 | AP11: 法人税割 | BG11: 4028854 | BO11: 7.2 | BS11: 1147263 | CD11: 農林水産業費 | CR11: 3061812 | CZ11: 1.3 | DD11: 736112 | DQ11: 1283205
B12: ゴルフ場利用税交付金 | R12: 51041 | Z12: 0 | AD12: 51041 | AL12: 0 | AP12: 固定資産税 | BG12: 22159313 | BO12: 39.6 | BS12: - | CD12: 商工費 | CR12: 3663142 | CZ12: 1.5 | DD12: 637252 | DQ12: 2509754
B13: 自動車取得税交付金 | R13: - | Z13: - | AD13: - | AL13: - | AP13: うち純固定資産税 | BG13: 21848030 | BO13: 39.1 | BS13: - | CD13: 土木費 | CR13: 21439089 | CZ13: 9 | DD13: 9844372 | DQ13: 11361898
B14: 軽油引取税交付金 | R14: - | Z14: - | AD14: - | AL14: - | AP14: 軽自動車税 | BG14: 1122311 | BO14: 2 | BS14: - | CD14: 消防費 | CR14: 4779420 | CZ14: 2 | DD14: 221985 | DQ14: 3833960
B15: 自動車税環境性能割交付金 | R15: 83095 | Z15: 0 | AD15: 83095 | AL15: 0.1 | AP15: 市町村たばこ税 | BG15: 2790151 | BO15: 5 | BS15: - | CD15: 教育費 | CR15: 17573855 | CZ15: 7.4 | DD15: 5973295 | DQ15: 10549963
B16: 法人事業税交付金 | R16: 728845 | Z16: 0.3 | AD16: 728845 | AL16: 0.7 | AP16: 鉱産税 | BG16: - | BO16: - | BS16: - | CD16: 災害復旧費 | CR16: 198963 | CZ16: 0.1 | DD16: - | DQ16: 33637
B17: 地方特例交付金等 | R17: 1890291 | Z17: 0.8 | AD17: 1890291 | AL17: 1.8 | AP17: 特別土地保有税 | BG17: - | BO17: - | BS17: - | CD17: 公債費 | CR17: 27066979 | CZ17: 11.4 | DD17: - | DQ17: 25431527
B18: 住宅借入金等特別税額控除減収補塡特例交付金 | R18: 278441 | Z18: 0.1 | AD18: 278441 | AL18: 0.3 | AP18: 法定外普通税 | BG18: - | BO18: - | BS18: - | CD18: 諸支出金 | CR18: 3066209 | CZ18: 1.3 | DD18: 3066209 | DQ18: 537031
B19: 定額減税減収補塡特例交付金 | R19: 1602319 | Z19: 0.7 | AD19: 1602319 | AL19: 1.5 | AP19: 目的税 | BG19: 6313659 | BO19: 11.3 | BS19: - | CD19: 前年度繰上充用金 | CR19: - | CZ19: - | DD19: - | DQ19: -
B20: 新型コロナウイルス感染症対策地方税減収補塡特別交付金 | R20: 9531 | Z20: 0 | AD20: 9531 | AL20: 0 | AP20: 法定目的税 | BG20: 5951226 | BO20: 10.6 | BS20: - | CD20: 歳出合計 | CR20: 237637609 | CZ20: 100 | DD20: 29357950 | DQ20: 133516539
B21: 地方交付税 | R21: 40352902 | Z21: 16.7 | AD21: 38086113 | AL21: 36.2 | AP21: 入湯税 | BG21: 52247 | BO21: 0.1 | BS21: -
B22: 普通交付税 | R22: 38086113 | Z22: 15.8 | AD22: 38086113 | AL22: 36.2 | AP22: 事業所税 | BG22: 1785399 | BO22: 3.2 | BS22: - | CD22: 性質別歳出の状況（単位 千円・％）
B23: 特別交付税 | R23: 2266789 | Z23: 0.9 | AD23: - | AL23: - | AP23: 都市計画税 | BG23: 4113580 | BO23: 7.4 | BS23: - | CD23: 区分 | CR23: 決算額 | CZ23: 構成比 | DD23: 充当一般財源等 | DL23: 経常経費充当一般財源等 | DW23: 経常収支比率
B24: 震災復興特別交付税 | R24: - | Z24: - | AD24: - | AL24: - | AP24: 水利地益税等 | BG24: - | BO24: - | BS24: - | CD24: 義務的経費計 | CR24: 138737675 | CZ24: 58.4 | DD24: 76567475 | DL24: 67978773 | DW24: 64
B25: (一般財源計) | R25: 111190894 | Z25: 46.1 | AD25: 104448093 | AL25: 99.3 | AP25: 法定外目的税 | BG25: 362433 | BO25: 0.6 | BS25: - | CD25: 人件費 | CR25: 27210806 | CZ25: 11.5 | DD25: 25059376 | DL25: 24321849 | DW25: 22.9
B26: 交通安全対策特別交付金 | R26: 38716 | Z26: 0 | AD26: 38716 | AL26: 0 | AP26: 旧法による税 | BG26: - | BO26: - | BS26: - | CD26: うち職員給 | CR26: 17610226 | CZ26: 7.4 | DD26: 15944248 | DL26: - | DW26: -
B27: 分担金・負担金 | R27: 1230704 | Z27: 0.5 | AD27: - | AL27: - | AP27: 合計 | BG27: 55893276 | BO27: 100 | BS27: 1147263 | CD27: 扶助費 | CR27: 84459895 | CZ27: 35.5 | DD27: 26076577 | DL27: 19515558 | DW27: 18.4
B28: 使用料 | R28: 3049227 | Z28: 1.3 | AD28: 321379 | AL28: 0.3 | CD28: 公債費 | CR28: 27066974 | CZ28: 11.4 | DD28: 25431522 | DL28: 24141366 | DW28: 22.7
B29: 手数料 | R29: 677528 | Z29: 0.3 | AD29: 17 | AL29: 0 | CD29: 内訳 | CF29: 元利償還金 | CR29: 27066473 | CZ29: 11.4 | DD29: 25431021 | DL29: 24140865 | DW29: 22.7
B30: 国庫支出金 | R30: 67719083 | Z30: 28.1 | AD30: - | AL30: - | AP30: 区分 | BG30: 令和6年度 | BR30: 令和5年度 | CF30: うち元金 | CR30: 25921728 | CZ30: 10.9 | DD30: 24383489 | DL30: 23093333 | DW30: 21.7
B31: 国有提供交付金(特別区財調交付金) | R31: 300 | Z31: 0 | AD31: 300 | AL31: 0 | AP31: 徴収率 (％) | AT31: 現年 | AX31: 合計 | BG31: 99.5 | BM31: 98.3 | BR31: 99.4 | BX31: 98 | CF31: うち利子 | CR31: 1144745 | CZ31: 0.5 | DD31: 1047532 | DL31: 1047532 | DW31: 1
B32: 都道府県支出金 | R32: 15231776 | Z32: 6.3 | AD32: - | AL32: - | AU32: ・計 | AX32: 市町村民税 | BG32: 99.5 | BM32: 98.5 | BR32: 99.3 | BX32: 98.1 | CF32: 一時借入金利子 | CR32: 501 | CZ32: 0 | DD32: 501 | DL32: 501 | DW32: 0
B33: 財産収入 | R33: 3518194 | Z33: 1.5 | AD33: 212107 | AL33: 0.2 | AX33: 純固定資産税 | BG33: 99.4 | BM33: 97.7 | BR33: 99.4 | BX33: 97.5 | CD33: その他の経費 | CR33: 69343021 | CZ33: 29.2 | DD33: 52880759 | DL33: 36978712 | DW33: 34.8
B34: 寄附金 | R34: 1235685 | Z34: 0.5 | AD34: - | AL34: - | CD34: 物件費 | CR34: 25559748 | CZ34: 10.8 | DD34: 18078746 | DL34: 15343505 | DW34: 14.4
B35: 繰入金 | R35: 4720953 | Z35: 2 | AD35: - | AL35: - | AQ35: 公営事業等への繰出 | BG35: 国民健康保険事業会計の状況 | CD35: 維持補修費 | CR35: 1845964 | CZ35: 0.8 | DD35: 1737593 | DL35: 1662861 | DW35: 1.6
B36: 繰越金 | R36: 8223700 | Z36: 3.4 | AD36: - | AL36: - | AQ36: 合計 | AZ36: 25754475 | BG36: 実質収支 | BV36: 217805 | CD36: 補助費等 | CR36: 12771379 | CZ36: 5.4 | DD36: 10136643 | DL36: 5243778 | DW36: 4.9
B37: 諸収入 | R37: 6281695 | Z37: 2.6 | AD37: 178500 | AL37: 0.2 | AQ37: 下水道 | AZ37: 4117934 | BG37: 再差引収支 | BV37: -659360 | CD37: うち一部事務組合負担金 | CR37: 48966 | CZ37: 0 | DD37: 48966 | DL37: 35451 | DW37: 0
B38: 地方債 | R38: 18143827 | Z38: 7.5 | AD38: - | AL38: - | AQ38: 上水道 | AZ38: 526817 | BG38: 加入世帯数(世帯) | BV38: 54111 | CD38: 繰出金 | CR38: 21109724 | CZ38: 8.9 | DD38: 17279484 | DL38: 14726122 | DW38: 13.9
B39: うち減収補塡債(特例分) | R39: - | Z39: - | AD39: - | AL39: - | AQ39: 市場 | AZ39: 30348 | BG39: 被保険者数(人) | BV39: 76322 | CD39: 積立金 | CR39: 4420063 | CZ39: 1.9 | DD39: 3491646 | DL39: - | DW39: -
B40: うち臨時財政対策債 | R40: 1031327 | Z40: 0.4 | AD40: - | AL40: - | AQ40: 観光施設 | AZ40: 2569 | BG40: 被保険者 1人当り | BM40: 保険税(料)収入額 | BV40: 103 | CD40: 投資・出資金・貸付金 | CR40: 3636143 | CZ40: 1.5 | DD40: 2156647 | DL40: 2446 | DW40: 0
...

Sheet 各会計、関係団体の財政状況及び健全化判断比率
A2: (2)各会計、関係団体の財政状況及び健全化判断比率（市町村） | DJ2: 令和6年度 | DQ2: 長崎県長崎市
A4: 一般会計等の財政状況（単位：百万円） | BQ4: 地方公社・第三セクター等の経営状況及び地方公共団体の財政的支援の状況（単位：百万円）
A5: 会計名 | Q5: 歳入 | V5: 歳出 | AA5: 形式収支 | AF5: 実質収支 | AK5: 他会計等 からの 繰入金 | AP5: 地方債 現在高 | AU5: 備考 | BQ5: 地方公社・第三セクター等名 | CH5: 経常損益 | CM5: 純資産又は 正味財産 | CR5: 当該団体 からの 出資金 | CW5: 当該団体 からの 補助金 | DB5: 当該団体 からの 貸付金 | DG5: 当該団体からの債務保証に係る債務残高 | DL5: 当該団体からの損失補償に係る債務残高 | DQ5: 一般会計等 負担見込額 | DV5: 備考
A7: 1 | B7: 一般会計 | Q7: 237841 | V7: 234412 | AA7: 3429 | AF7: 1138 | AK7: 4209 | AP7: 253299 | BQ7: 1 | BS7: （一財）クリーンながさき | CH7: 21 | CM7: 285 | CR7: 3 | CW7: - | DB7: - | DG7: - | DL7: - | DQ7: -
A8: 2 | B8: 土地取得特別会計 | Q8: 4317 | V8: 4168 | AA8: 149 | AF8: - | AK8: - | AP8: 2109 | BQ8: 2 | BS8: （株）ながさきサステナエナジー | CH8: 75 | CM8: 381 | CR8: 18 | CW8: - | DB8: - | DG8: - | DL8: - | DQ8: -
A9: 3 | B9: 母子父子寡婦福祉資金貸付事業特別会計 | Q9: 100 | V9: 54 | AA9: 46 | AF9: 46 | AK9: 5 | AP9: 124 | BQ9: 3 | BS9: （一財）長崎市野母崎振興公社 | CH9: -1 | CM9: 15 | CR9: 6 | CW9: - | DB9: - | DG9: - | DL9: - | DQ9: -
A10: 4 | B10: 診療所事業特別会計 | Q10: 383 | V10: 383 | AA10: - | AF10: - | AK10: 244 | AP10: 564 | BQ10: 4 | BS10: （一財）長崎市勤労者サービスセンター | CH10: -1 | CM10: 233 | CR10: 100 | CW10: - | DB10: - | DG10: - | DL10: - | DQ10: -
A11: 5 | B11: 長崎市立病院機構病院事業債管理特別会計 | Q11: 1059 | V11: 1059 | AA11: - | AF11: - | AK11: - | AP11: 8616 | BQ11: 5 | BS11: 長崎つきまち（株） | CH11: -7 | CM11: 422 | CR11: 200 | CW11: - | DB11: - | DG11: - | DL11: - | DQ11: -
A12: 6 | BQ12: 6 | BS12: （一財）長崎市地産地消振興公社 | CH12: -6 | CM12: 31 | CR12: 5 | CW12: 11 | DB12: - | DG12: - | DL12: - | DQ12: -
A13: 7 | BQ13: 7 | BS13: （公財）長崎市スポーツ協会 | CH13: 0 | CM13: 114 | CR13: 60 | CW13: 41 | DB13: - | DG13: - | DL13: - | DQ13: -
A14: 8 | BQ14: 8 | BS14: （一財）長崎ロープウェイ・水族館 | CH14: 2 | CM14: 130 | CR14: 10 | CW14: - | DB14: - | DG14: - | DL14: - | DQ14: -
A15: 9 | BQ15: 9 | BS15: （福）長崎市社会福祉事業団 | CH15: -23 | CM15: 253 | CR15: 3 | CW15: - | DB15: - | DG15: - | DL15: - | DQ15: -
A16: 10 | BQ16: 10 | BS16: 長崎中央市場サービス（株） | CH16: 1 | CM16: 71 | CR16: 30 | CW16: - | DB16: - | DG16: - | DL16: - | DQ16: -
A17: 11 | BQ17: 11 | BS17: （公財）長崎平和推進協会 | CH17: 5 | CM17: 84 | CR17: 8 | CW17: 30 | DB17: - | DG17: - | DL17: - | DQ17: -
A18: 12 | BQ18: 12 | BS18: （地独）長崎市立病院機構 | CH18: -1198 | CM18: -1466 | CR18: 842 | CW18: 19 | DB18: - | DG18: - | DL18: - | DQ18: -
A19: 13 | BQ19: 13 | BR19: ○ | BS19: （公社）長崎県林業公社 | CH19: 200 | CM19: 29117 | CR19: - | CW19: - | DB19: - | DG19: - | DL19: 185 | DQ19: 56
A20: 14 | BQ20: 14 | BS20: 長崎県信用保証協会 | CH20: 529 | CM20: 28991 | CR20: 263 | CW20: - | DB20: - | DG20: - | DL20: - | DQ20: -
A21: 15 | BQ21: 15
A22: 16 | AZ22: 実質赤字額 | BQ22: 16
A23: 計 | B23: 一般会計等（純計） | Q23: 242333 | V23: 238710 | AA23: 3624 | AF23: 1184 | AP23: 264712 | AZ23: - | BQ23: 17
A24: ※一般会計等（純計）は、各会計の相互間の繰入・繰出等の重複を控除したものであり、各会計の合計と一致しない場合がある。 | BQ24: 18
A25: 公営企業会計等の財政状況（単位：百万円） | BQ25: 19
A26: 会計名 | Q26: 総収益 （歳入） | V26: 総費用 （歳出） | AA26: 純損益 （形式収支） | AF26: 資金剰余額 /不足額 （実質収支） | AK26: 他会計等 からの 繰入金 | AP26: 企業債 （地方債） 現在高 | AU26: 左のうち 一般会計等 繰入見込額 | AZ26: 資金不足 比率 | BE26: 備考 | BQ26: 20
BQ27: 21
A28: 1 | B28: 国民健康保険事業特別会計 | Q28: 50700 | V28: 50482 | AA28: 218 | AF28: 218 | AK28: 4201 | AP28: 57 | AU28: 53 | AZ28: 0 | BQ28: 22
A29: 2 | B29: 介護保険事業特別会計 | Q29: 48929 | V29: 48030 | AA29: 900 | AF29: 900 | AK29: 6932 | AP29: - | AU29: - | AZ29: 0 | BQ29: 23
A30: 3 | B30: 後期高齢者医療事業特別会計 | Q30: 7458 | V30: 7196 | AA30: 262 | AF30: 262 | AK30: 1817 | AP30: - | AU30: - | AZ30: 0 | BQ30: 24
A31: 4 | B31: 駐車場事業特別会計 | Q31: 195 | V31: 195 | AA31: - | AF31: - | AK31: - | AP31: 602 | AU31: - | AZ31: 0 | BQ31: 25
A32: 5 | B32: 水道事業会計 | Q32: 10212 | V32: 9307 | AA32: 905 | AF32: 13009 | AK32: 40 | AP32: 7762 | AU32: 924 | AZ32: 0 | BE32: 法適用企業 | BQ32: 26
A33: 6 | B33: 下水道事業会計 | Q33: 11955 | V33: 10706 | AA33: 1249 | AF33: 13032 | AK33: 2073 | AP33: 51740 | AU33: 31044 | AZ33: 0 | BE33: 法適用企業 | BQ33: 27
A34: 7 | B34: 観光施設事業特別会計 | Q34: 468 | V34: 416 | AA34: 52 | AF34: 52 | AK34: 60 | AP34: 226 | AU34: - | AZ34: 0 | BE34: 法非適用企業 | BQ34: 28
A35: 8 | B35: 中央卸売市場事業特別会計 | Q35: 259 | V35: 259 | AA35: - | AF35: - | AK35: 30 | AP35: 228 | AU35: 126 | AZ35: 0 | BE35: 法非適用企業 | BQ35: 29
A36: 9 | BQ36: 30
A37: 10 | BQ37: 31
A38: 11 | BQ38: 32
A39: 12 | BQ39: 33
A40: 13 | BQ40: 34
A41: 14 | BQ41: 35
A42: 15 | BQ42: 36
A43: 16 | BQ43: 37
...

Sheet 財政比較分析表

Sheet 経常経費分析表（経常収支比率の分析）

Sheet 経常経費分析表（人件費・公債費・普通建設事業費の分析）
A5: 人件費及び人件費に準ずる費用の分析
AK6: 人件費及び人件費に準ずる費用
AO7: 当該団体決算額 （千円） | AQ7: 人口1人当たり決算額
AP8: 当該団体（円） | AQ8: 類似団体平均（円） | AR8: 対比（％）
AK9: 人件費 | AO9: 27210806 | AP9: 69673 | AQ9: 69190 | AR9: 0.7
AK10: 一部事務組合負担金（補助費等） | AO10: 2693 | AP10: 7 | AQ10: 1817 | AR10: -99.6
AK11: 公営企業（法適）等に対する繰出し（補助費等） | AO11: 48242 | AP11: 124 | AQ11: 711 | AR11: -82.6
AK12: 公営企業（法適）等に対する繰出し（投資及び出資金・貸付金） | AO12: - | AP12: - | AQ12: 19 | AR12: -
AK13: 公営企業（法非適）等に対する繰出し（繰出金） | AO13: 647019 | AP13: 1657 | AQ13: 2094 | AR13: -20.9
AK14: 事業費支弁に係る職員の人件費（投資的経費） | AO14: 806807 | AP14: 2066 | AQ14: 1351 | AR14: 52.9
AK15: ▲退職金 | AO15: -1861469 | AP15: -4766 | AQ15: -3935 | AR15: 21.1
AK16: 合計 | AO16: 26854098 | AP16: 68760 | AQ16: 71247 | AR16: -3.5
AK19: 参考
AO20: 当該団体 | AP20: 類似団体平均 | AQ20: 対比（差引）
AK21: 人口1,000人当たり職員数（人） | AO21: 7.32 | AP21: 6.59 | AQ21: 0.73
AK22: ラスパイレス指数 | AO22: 97.6 | AP22: 99.2 | AQ22: -1.6
A26: （注）人口については、各調査対象年度の1月1日現在の住民基本台帳に登載されている人口に基づいている。
A28: 公債費及び公債費に準ずる費用の分析
AK29: 公債費及び公債費に準ずる費用（実質公債費比率の構成要素）
AO30: 当該団体決算額 （千円） | AQ30: 人口1人当たり決算額
AP31: 当該団体（円） | AQ31: 類似団体平均（円） | AR31: 対比（％）
AK32: 元利償還金の額 （繰上償還額等を除く） | AO32: 26737539 | AP32: 68461 | AQ32: 37151 | AR32: 84.3
AK33: 積立不足額を考慮して算定した額 | AO33: - | AP33: - | AQ33: 1 | AR33: -
AK34: 満期一括償還地方債の一年当たりの元金償還金に相当するもの （年度割相当額） | AO34: - | AP34: - | AQ34: 48 | AR34: -
AK35: 公営企業に要する経費の財源とする地方債の償還の財源に 充てたと認められる繰入金 | AO35: 4125856 | AP35: 10564 | AQ35: 8181 | AR35: 29.1
AK36: 一部事務組合等の起こした地方債に充てたと認められる 補助金又は負担金 | AO36: - | AP36: - | AQ36: 473 | AR36: -
AK37: 公債費に準ずる債務負担行為に係るもの | AO37: 24977 | AP37: 64 | AQ37: 499 | AR37: -87.2
AK38: 一時借入金利子 （同一団体における会計間の現金運用に係る利子は除く） | AO38: 501 | AP38: 1 | AQ38: 1 | AR38: 0
AK39: ▲特定財源の額 | AO39: -6742577 | AP39: -17264 | AQ39: -8269 | AR39: 108.8
AK40: ▲地方債に係る元利償還金及び準元利償還金に要する経費として 普通交付税の額の算定に用いる基準財政需要額に算入された額 | AO40: -15192891 | AP40: -38901 | AQ40: -27482 | AR40: 41.6
AK41: 合計 | AO41: 8953405 | AP41: 22925 | AQ41: 10602 | AR41: 116.2
A47: （参考） 普通建設事業費の分析
AK48: 普通建設事業費
AM49: 当該団体決算額 （千円） | AN49: 人口１人当たり決算額
AN50: 当該団体(円) | AO50: 増減率(%)(A) | AP50: 類似団体平均(円) | AQ50: 増減率(%)(B) | AR50: (A)-(B)
AK51: R02 | AM51: 37748378 | AN51: 91732 | AO51: 19.5 | AP51: 52191 | AQ51: 0.7 | AR51: 18.8
AL52: うち単独分 | AM52: 19872009 | AN52: 48291 | AO52: 40.7 | AP52: 26807 | AQ52: 1.8 | AR52: 38.9
AK53: R03 | AM53: 38673642 | AN53: 95228 | AO53: 3.8 | AP53: 48105 | AQ53: -7.8 | AR53: 11.6
AL54: うち単独分 | AM54: 25862313 | AN54: 63682 | AO54: 31.9 | AP54: 24072 | AQ54: -10.2 | AR54: 42.1
AK55: R04 | AM55: 31312986 | AN55: 78049 | AO55: -18 | AP55: 47446 | AQ55: -1.4 | AR55: -16.6
...

Sheet 性質別歳出決算分析表（住民一人当たりのコスト）

Sheet 目的別歳出決算分析表（住民一人当たりのコスト）

Sheet 実質収支比率等に係る経年分析
J45: 標準財政規模比（％）
B46: 区分 | E46: 年度 | F46: R02 | G46: R03 | H46: R04 | I46: R05 | J46: R06
C47: 財政調整基金残高 | F47: 11.13 | G47: 11.72 | H47: 10.75 | I47: 12.72 | J47: 14.02
C48: 実質収支額 | F48: 2.74 | G48: 2.82 | H48: 6.85 | I48: 5.01 | J48: 1.16
C49: 実質単年度収支 | F49: ▲ 1.61 | G49: 1.05 | H49: 2.64 | I49: 0.2 | J49: ▲ 1.00

Sheet 連結実質赤字比率に係る赤字・黒字の構成分析
J32: 標準財政規模比（％）
B33: 会計 | E33: 年度 | F33: R02 | G33: R03 | H33: R04 | I33: R05 | J33: R06
C34: 下水道事業会計 | F34: 9.5 | G34: 10.13 | H34: 11.22 | I34: 12.42 | J34: 12.75
C35: 水道事業会計 | F35: 14.52 | G35: 14.12 | H35: 13.83 | I35: 13.74 | J35: 12.73
C36: 一般会計 | F36: 2.56 | G36: 2.69 | H36: 6.78 | I36: 4.97 | J36: 1.11
C37: 介護保険事業特別会計 | F37: 1.25 | G37: 1.14 | H37: 1.29 | I37: 1.02 | J37: 0.88
C38: 後期高齢者医療事業特別会計 | F38: 0.06 | G38: 0.02 | H38: 0.02 | I38: 0.16 | J38: 0.25
C39: 国民健康保険事業特別会計 | F39: 0.12 | G39: 0.32 | H39: 0.31 | I39: 0.12 | J39: 0.21
C40: 観光施設事業特別会計 | F40: 0 | G40: 0 | H40: 0 | I40: 0.02 | J40: 0.05
C41: 母子父子寡婦福祉資金貸付事業特別会計 | F41: 0.18 | G41: 0.12 | H41: 0.06 | I41: 0.04 | J41: 0.04
C42: その他会計（赤字） | F42: - | G42: - | H42: - | I42: - | J42: -
C43: その他会計（黒字） | F43: 0 | G43: 0 | H43: 0 | I43: 0.04 | J43: 0

Sheet 実質公債費比率（分子）の構造
O43: （百万円）
B44: 分子の構造 | J44: 年度 | K44: R02 | L44: R03 | M44: R04 | N44: R05 | O44: R06
B45: 元利償還金等(A) | E45: 元利償還金 | K45: 23232 | L45: 24460 | M45: 25642 | N45: 26127 | O45: 26738
E46: 減債基金積立不足算定額※2 | K46: - | L46: - | M46: - | N46: - | O46: -
E47: 満期一括償還地方債に係る年度割相当額 | K47: - | L47: - | M47: - | N47: - | O47: -
E48: 公営企業債の元利償還金に対する繰入金 | K48: 4966 | L48: 4738 | M48: 4480 | N48: 4273 | O48: 4126
E49: 組合等が起こした地方債の元利償還金に対する負担金等 | K49: - | L49: - | M49: - | N49: - | O49: -
E50: 債務負担行為に基づく支出額 | K50: 59 | L50: 59 | M50: 94 | N50: 22 | O50: 25
E51: 一時借入金の利子 | K51: 0 | L51: 0 | M51: 0 | N51: 0 | O51: 1
B52: 算入公債費等(B) | E52: 算入公債費等 | K52: 21051 | L52: 20411 | M52: 21274 | N52: 21437 | O52: 21936
B53: (A)－(B) | E53: 実質公債費比率の分子 | K53: 7206 | L53: 8846 | M53: 8942 | N53: 8985 | O53: 8954
B54: ※ 減債基金積立不足算定額=(C)×(１－(D)/(E))
B56: （参考） | O56: （百万円）
J57: 年度 | K57: R02 | L57: R03 | M57: R04 | N57: R05 | O57: R06
B58: 減債基金 積立状況等（注） | D58: 満期一括償還地方債に係る実質償還額又は理論償還額のいずれか少ない額(C)
D59: 前年度末減債基金残高(D)
D60: 前年度末減債基金積立相当額(E)
D61: （注）減債基金のうち、実質公債費比率の算定に用いる満期一括償還地方債の償還の財源に係るもののみを記入。
D62: 減債基金積立金の年度を超えた一般会計又は特別会計への貸付額は控除して記入。

Sheet 将来負担比率（分子）の構造
M39: （百万円）
B40: 分子の構造 | H40: 年度 | I40: R02 | J40: R03 | K40: R04 | L40: R05 | M40: R06
B41: 将来負担額(A) | E41: 一般会計等に係る地方債の現在高 | I41: 276182 | J41: 285243 | K41: 282908 | L41: 273320 | M41: 264712
E42: 債務負担行為に基づく支出予定額 | I42: 86 | J42: 347 | K42: 892 | L42: 275 | M42: 253
E43: 公営企業債等繰入見込額 | I43: 40942 | J43: 40577 | K43: 37385 | L43: 35253 | M43: 32147
E44: 組合等負担等見込額 | I44: - | J44: - | K44: - | L44: - | M44: -
E45: 退職手当負担見込額 | I45: 20393 | J45: 20252 | K45: 20228 | L45: 20955 | M45: 20721
E46: 設立法人等の負債額等負担見込額 | I46: 470 | J46: 23 | K46: 194 | L46: 181 | M46: 2803
E47: うち、健全化法施行規則附則第三条に係る負担見込額 | I47: - | J47: - | K47: - | L47: - | M47: -
E48: 連結実質赤字額 | I48: - | J48: - | K48: - | L48: - | M48: -
E49: 組合等連結実質赤字額負担見込額 | I49: - | J49: - | K49: - | L49: - | M49: -
B50: 充当可能財源等(B) | E50: 充当可能基金 | I50: 45812 | J50: 48057 | K50: 45045 | L50: 45231 | M50: 47289
E51: 充当可能特定歳入 | I51: 36960 | J51: 36282 | K51: 38075 | L51: 39428 | M51: 39009
E52: 基準財政需要額算入見込額 | I52: 178389 | J52: 176323 | K52: 170536 | L52: 163452 | M52: 154614
B53: (A)－(B) | E53: 将来負担比率の分子 | I53: 76913 | J53: 85780 | K53: 87952 | L53: 81873 | M53: 79725

Sheet 基金残高に係る経年分析
H53: （百万円）
B54: 区分 | E54: 年度 | F54: R04 | G54: R05 | H54: R06
C55: 財政調整基金 | F55: 10765 | G55: 12783 | H55: 14321
C56: 減債基金 | F56: 9099 | G56: 6376 | H56: 5680
C57: その他特定目的基金 | F57: 22964 | G57: 22791 | H57: 22354
C58: 市庁舎建設整備基金 | F58: 11736 | G58: 11382 | H58: 10994
C59: 地域振興基金 | F59: 3939 | G59: 3846 | H59: 3744
C60: 端島（軍艦島）整備基金 | F60: 1265 | G60: 1569 | H60: 1711
C61: いきいき長寿社会基金 | F61: 1830 | G61: 1544 | H61: 1224
C62: 長崎伝習所基金 | F62: 1050 | G62: 1048 | H62: 1044
C63: 基金残高合計 | F63: 42828 | G63: 41951 | H63: 42355

Sheet 公会計指標分析・財政指標組合せ分析表
B41: 将来負担比率及び有形固定資産減価償却率の組合せによる分析
AN42: 分析欄
AN43: 将来負担比率は令和5年度から減少しているが、有形固定資産減価償却率については前年度と比較して1.2％増加して69.8％となっている。また、将来負担比率、有形固定資産減価償却ともに類似団体と比較して高い状況が続いている。これは、地方債残高が高い水準で推移しており、既存資産については、老朽化が進んでいるためと考えられる。 今後も将来負担比率が高い水準で推移する見込みであるため、これまで以上に公債費の適正化に取り組みつつ、長崎市公共施設等総合管理計画等に基づき既存施設の長寿命化や施設総量の適正化等にも取り組む必要がある。
AN49: ( 参考 ）
BP50: R02 | BX50: R03 | CF50: R04 | CN50: R05 | CV50: R06
AN51: 当該団体値 | BB51: 将来負担比率 | BP51: 91 | BX51: 98 | CF51: 103.9 | CN51: 96 | CV51: 91.6
BB53: 有形固定資産減価償却率 | BP53: 68.1 | BX53: 66.8 | CF53: 67.1 | CN53: 68.6 | CV53: 69.8
AN55: 類似団体内平均値 | BB55: 将来負担比率 | BP55: 31.5 | BX55: 23.4 | CF55: 18.2 | CN55: 17.1 | CV55: 16.6
BB57: 有形固定資産減価償却率 | BP57: 62.9 | BX57: 63.9 | CF57: 64.9 | CN57: 65.8 | CV57: 66.7
B63: 将来負担比率及び実質公債費比率の組合せによる分析
AN64: 分析欄
AN65: 将来負担比率、実質公債費比率ともに類似団体と比較して高い状況が続いている。 将来負担比率は地方債現在高が減少したことや基準財政需要額算入見込額が減少したこと、加えて標準財政規模が増したことなどにより、前年度に比べ4.4ポイント低下した。 実質公債費比率は公共施設等適正管理推進事業債及び公共事業等債などの元利償還額が増加したものの、公営企業の地方債償還に充当された繰入金が減したことなどにより前年度と同率となっている。 今後も公債費の増加または横ばいで推移すること及び充当可能財源が減少していくことから、将来負担比率、実質公債費比率共に高い水準で推移する見込みであるため、これまで以上に公債費の適正化及び継続的な収支改善に取り組んでいく必要がある。
AN71: ( 参考 ）
BP72: R02 | BX72: R03 | CF72: R04 | CN72: R05 | CV72: R06
AN73: 当該団体値 | BB73: 将来負担比率 | BP73: 91 | BX73: 98 | CF73: 103.9 | CN73: 96 | CV73: 91.6
BB75: 実質公債費比率 | BP75: 8.2 | BX75: 8.8 | CF75: 9.7 | CN75: 10.4 | CV75: 10.4
AN77: 類似団体内平均値 | BB77: 将来負担比率 | BP77: 31.5 | BX77: 23.4 | CF77: 18.2 | CN77: 17.1 | CV77: 16.6
BB79: 実質公債費比率 | BP79: 5.4 | BX79: 5.2 | CF79: 5.2 | CN79: 5.2 | CV79: 5.2

Sheet 施設類型別ストック情報分析表① 

Sheet 施設類型別ストック情報分析表② 

Sheet データシート
D2: 当該団体(円) | F2: 類似団体内平均(円)
A3: R02 | D3: 91732 | F3: 52191
D4: 48291 | F4: 26807
A5: R03 | D5: 95228 | F5: 48105
D6: 63682 | F6: 24072
A7: R04 | D7: 78049 | F7: 47446
D8: 48499 | F8: 24371
A9: R05 | D9: 63690 | F9: 48387
D10: 31556 | F10: 25592
A11: R06 | D11: 75171 | F11: 49684
D12: 32304 | F12: 28303
D13: 80774 | F13: 49163
D14: 44866 | F14: 25829
A17: 実質収支比率等に係る経年分析
B18: =実質収支比率等に係る経年分析!F$46 -> R02 | C18: =実質収支比率等に係る経年分析!G$46 -> R03 | D18: =実質収支比率等に係る経年分析!H$46 -> R04 | E18: =実質収支比率等に係る経年分析!I$46 -> R05 | F18: =実質収支比率等に係る経年分析!J$46 -> R06
A19: 実質収支額 | B19: =ROUND(VALUE(SUBSTITUTE(実質収支比率等に係る経年分析!F$48,"▲","-")),2) -> 2.74 | C19: =ROUND(VALUE(SUBSTITUTE(実質収支比率等に係る経年分析!G$48,"▲","-")),2) -> 2.82 | D19: =ROUND(VALUE(SUBSTITUTE(実質収支比率等に係る経年分析!H$48,"▲","-")),2) -> 6.85 | E19: =ROUND(VALUE(SUBSTITUTE(実質収支比率等に係る経年分析!I$48,"▲","-")),2) -> 5.01 | F19: =ROUND(VALUE(SUBSTITUTE(実質収支比率等に係る経年分析!J$48,"▲","-")),2) -> 1.16
A20: 財政調整基金残高 | B20: =ROUND(VALUE(SUBSTITUTE(実質収支比率等に係る経年分析!F$47,"▲","-")),2) -> 11.13 | C20: =ROUND(VALUE(SUBSTITUTE(実質収支比率等に係る経年分析!G$47,"▲","-")),2) -> 11.72 | D20: =ROUND(VALUE(SUBSTITUTE(実質収支比率等に係る経年分析!H$47,"▲","-")),2) -> 10.75 | E20: =ROUND(VALUE(SUBSTITUTE(実質収支比率等に係る経年分析!I$47,"▲","-")),2) -> 12.72 | F20: =ROUND(VALUE(SUBSTITUTE(実質収支比率等に係る経年分析!J$47,"▲","-")),2) -> 14.02
A21: 実質単年度収支 | B21: =IF(ISNUMBER(VALUE(SUBSTITUTE(実質収支比率等に係る経年分析!F$49,"▲","-"))),ROUND(VALUE(SUBSTITUTE(実質収支比率等に係る経年分析!F$49,"▲","-")),2),NA()) -> -1.61 | C21: =IF(ISNUMBER(VALUE(SUBSTITUTE(実質収支比率等に係る経年分析!G$49,"▲","-"))),ROUND(VALUE(SUBSTITUTE(実質収支比率等に係る経年分析!G$49,"▲","-")),2),NA()) -> 1.05 | D21: =IF(ISNUMBER(VALUE(SUBSTITUTE(実質収支比率等に係る経年分析!H$49,"▲","-"))),ROUND(VALUE(SUBSTITUTE(実質収支比率等に係る経年分析!H$49,"▲","-")),2),NA()) -> 2.64 | E21: =IF(ISNUMBER(VALUE(SUBSTITUTE(実質収支比率等に係る経年分析!I$49,"▲","-"))),ROUND(VALUE(SUBSTITUTE(実質収支比率等に係る経年分析!I$49,"▲","-")),2),NA()) -> 0.2 | F21: =IF(ISNUMBER(VALUE(SUBSTITUTE(実質収支比率等に係る経年分析!J$49,"▲","-"))),ROUND(VALUE(SUBSTITUTE(実質収支比率等に係る経年分析!J$49,"▲","-")),2),NA()) -> -1
A24: 連結実質赤字比率に係る赤字・黒字の構成分析
B25: =連結実質赤字比率に係る赤字・黒字の構成分析!F$33 -> R02 | D25: =連結実質赤字比率に係る赤字・黒字の構成分析!G$33 -> R03 | F25: =連結実質赤字比率に係る赤字・黒字の構成分析!H$33 -> R04 | H25: =連結実質赤字比率に係る赤字・黒字の構成分析!I$33 -> R05 | J25: =連結実質赤字比率に係る赤字・黒字の構成分析!J$33 -> R06
B26: 赤字額 | C26: 黒字額 | D26: 赤字額 | E26: 黒字額 | F26: 赤字額 | G26: 黒字額 | H26: 赤字額 | I26: 黒字額 | J26: 赤字額 | K26: 黒字額
A27: =IF(連結実質赤字比率に係る赤字・黒字の構成分析!C$43="",NA(),連結実質赤字比率に係る赤字・黒字の構成分析!C$43) -> その他会計（黒字） | B27: =IF(ROUND(VALUE(SUBSTITUTE(連結実質赤字比率に係る赤字・黒字の構成分析!F$43,"▲", "-")), 2) < 0, ABS(ROUND(VALUE(SUBSTITUTE(連結実質赤字比率に係る赤字・黒字の構成分析!F$43,"▲", "-")), 2)), NA()) -> #N/A | C27: =IF(ROUND(VALUE(SUBSTITUTE(連結実質赤字比率に係る赤字・黒字の構成分析!F$43,"▲", "-")), 2) >= 0, ABS(ROUND(VALUE(SUBSTITUTE(連結実質赤字比率に係る赤字・黒字の構成分析!F$43,"▲", "-")), 2)), NA()) -> 0 | D27: =IF(ROUND(VALUE(SUBSTITUTE(連結実質赤字比率に係る赤字・黒字の構成分析!G$43,"▲", "-")), 2) < 0, ABS(ROUND(VALUE(SUBSTITUTE(連結実質赤字比率に係る赤字・黒字の構成分析!G$43,"▲", "-")), 2)), NA()) -> #N/A | E27: =IF(ROUND(VALUE(SUBSTITUTE(連結実質赤字比率に係る赤字・黒字の構成分析!G$43,"▲", "-")), 2) >= 0, ABS(ROUND(VALUE(SUBSTITUTE(連結実質赤字比率に係る赤字・黒字の構成分析!G$43,"▲", "-")), 2)), NA()) -> 0 | F27: =IF(ROUND(VALUE(SUBSTITUTE(連結実質赤字比率に係る赤字・黒字の構成分析!H$43,"▲", "-")), 2) < 0, ABS(ROUND(VALUE(SUBSTITUTE(連結実質赤字比率に係る赤字・黒字の構成分析!H$43,"▲", "-")), 2)), NA()) -> #N/A | G27: =IF(ROUND(VALUE(SUBSTITUTE(連結実質赤字比率に係る赤字・黒字の構成分析!H$43,"▲", "-")), 2) >= 0, ABS(ROUND(VALUE(SUBSTITUTE(連結実質赤字比率に係る赤字・黒字の構成分析!H$43,"▲", "-")), 2)), NA()) -> 0 | H27: =IF(ROUND(VALUE(SUBSTITUTE(連結実質赤字比率に係る赤字・黒字の構成分析!I$43,"▲", "-")), 2) < 0, ABS(ROUND(VALUE(SUBSTITUTE(連結実質赤字比率に係る赤字・黒字の構成分析!I$43,"▲", "-")), 2)), NA()) -> #N/A | I27: =IF(ROUND(VALUE(SUBSTITUTE(連結実質赤字比率に係る赤字・黒字の構成分析!I$43,"▲", "-")), 2) >= 0, ABS(ROUND(VALUE(SUBSTITUTE(連結実質赤字比率に係る赤字・黒字の構成分析!I$43,"▲", "-")), 2)), NA()) -> 0.04 | J27: =IF(ROUND(VALUE(SUBSTITUTE(連結実質赤字比率に係る赤字・黒字の構成分析!J$43,"▲", "-")), 2) < 0, ABS(ROUND(VALUE(SUBSTITUTE(連結実質赤字比率に係る赤字・黒字の構成分析!J$43,"▲", "-")), 2)), NA()) -> #N/A | K27: =IF(ROUND(VALUE(SUBSTITUTE(連結実質赤字比率に係る赤字・黒字の構成分析!J$43,"▲", "-")), 2) >= 0, ABS(ROUND(VALUE(SUBSTITUTE(連結実質赤字比率に係る赤字・黒字の構成分析!J$43,"▲", "-")), 2)), NA()) -> 0
A28: =IF(連結実質赤字比率に係る赤字・黒字の構成分析!C$42="",NA(),連結実質赤字比率に係る赤字・黒字の構成分析!C$42) -> その他会計（赤字） | B28: =IF(ROUND(VALUE(SUBSTITUTE(連結実質赤字比率に係る赤字・黒字の構成分析!F$42,"▲", "-")), 2) < 0, ABS(ROUND(VALUE(SUBSTITUTE(連結実質赤字比率に係る赤字・黒字の構成分析!F$42,"▲", "-")), 2)), NA()) -> #VALUE! | C28: =IF(ROUND(VALUE(SUBSTITUTE(連結実質赤字比率に係る赤字・黒字の構成分析!F$42,"▲", "-")), 2) >= 0, ABS(ROUND(VALUE(SUBSTITUTE(連結実質赤字比率に係る赤字・黒字の構成分析!F$42,"▲", "-")), 2)), NA()) -> #VALUE! | D28: =IF(ROUND(VALUE(SUBSTITUTE(連結実質赤字比率に係る赤字・黒字の構成分析!G$42,"▲", "-")), 2) < 0, ABS(ROUND(VALUE(SUBSTITUTE(連結実質赤字比率に係る赤字・黒字の構成分析!G$42,"▲", "-")), 2)), NA()) -> #VALUE! | E28: =IF(ROUND(VALUE(SUBSTITUTE(連結実質赤字比率に係る赤字・黒字の構成分析!G$42,"▲", "-")), 2) >= 0, ABS(ROUND(VALUE(SUBSTITUTE(連結実質赤字比率に係る赤字・黒字の構成分析!G$42,"▲", "-")), 2)), NA()) -> #VALUE! | F28: =IF(ROUND(VALUE(SUBSTITUTE(連結実質赤字比率に係る赤字・黒字の構成分析!H$42,"▲", "-")), 2) < 0, ABS(ROUND(VALUE(SUBSTITUTE(連結実質赤字比率に係る赤字・黒字の構成分析!H$42,"▲", "-")), 2)), NA()) -> #VALUE! | G28: =IF(ROUND(VALUE(SUBSTITUTE(連結実質赤字比率に係る赤字・黒字の構成分析!H$42,"▲", "-")), 2) >= 0, ABS(ROUND(VALUE(SUBSTITUTE(連結実質赤字比率に係る赤字・黒字の構成分析!H$42,"▲", "-")), 2)), NA()) -> #VALUE! | H28: =IF(ROUND(VALUE(SUBSTITUTE(連結実質赤字比率に係る赤字・黒字の構成分析!I$42,"▲", "-")), 2) < 0, ABS(ROUND(VALUE(SUBSTITUTE(連結実質赤字比率に係る赤字・黒字の構成分析!I$42,"▲", "-")), 2)), NA()) -> #VALUE! | I28: =IF(ROUND(VALUE(SUBSTITUTE(連結実質赤字比率に係る赤字・黒字の構成分析!I$42,"▲", "-")), 2) >= 0, ABS(ROUND(VALUE(SUBSTITUTE(連結実質赤字比率に係る赤字・黒字の構成分析!I$42,"▲", "-")), 2)), NA()) -> #VALUE! | J28: =IF(ROUND(VALUE(SUBSTITUTE(連結実質赤字比率に係る赤字・黒字の構成分析!J$42,"▲", "-")), 2) < 0, ABS(ROUND(VALUE(SUBSTITUTE(連結実質赤字比率に係る赤字・黒字の構成分析!J$42,"▲", "-")), 2)), NA()) -> #VALUE! | K28: =IF(ROUND(VALUE(SUBSTITUTE(連結実質赤字比率に係る赤字・黒字の構成分析!J$42,"▲", "-")), 2) >= 0, ABS(ROUND(VALUE(SUBSTITUTE(連結実質赤字比率に係る赤字・黒字の構成分析!J$42,"▲", "-")), 2)), NA()) -> #VALUE!
A29: =IF(連結実質赤字比率に係る赤字・黒字の構成分析!C$41="",NA(),連結実質赤字比率に係る赤字・黒字の構成分析!C$41) -> 母子父子寡婦福祉資金貸付事業特別会計 | B29: =IF(ROUND(VALUE(SUBSTITUTE(連結実質赤字比率に係る赤字・黒字の構成分析!F$41,"▲", "-")), 2) < 0, ABS(ROUND(VALUE(SUBSTITUTE(連結実質赤字比率に係る赤字・黒字の構成分析!F$41,"▲", "-")), 2)), NA()) -> #N/A | C29: =IF(ROUND(VALUE(SUBSTITUTE(連結実質赤字比率に係る赤字・黒字の構成分析!F$41,"▲", "-")), 2) >= 0, ABS(ROUND(VALUE(SUBSTITUTE(連結実質赤字比率に係る赤字・黒字の構成分析!F$41,"▲", "-")), 2)), NA()) -> 0.18 | D29: =IF(ROUND(VALUE(SUBSTITUTE(連結実質赤字比率に係る赤字・黒字の構成分析!G$41,"▲", "-")), 2) < 0, ABS(ROUND(VALUE(SUBSTITUTE(連結実質赤字比率に係る赤字・黒字の構成分析!G$41,"▲", "-")), 2)), NA()) -> #N/A | E29: =IF(ROUND(VALUE(SUBSTITUTE(連結実質赤字比率に係る赤字・黒字の構成分析!G$41,"▲", "-")), 2) >= 0, ABS(ROUND(VALUE(SUBSTITUTE(連結実質赤字比率に係る赤字・黒字の構成分析!G$41,"▲", "-")), 2)), NA()) -> 0.12 | F29: =IF(ROUND(VALUE(SUBSTITUTE(連結実質赤字比率に係る赤字・黒字の構成分析!H$41,"▲", "-")), 2) < 0, ABS(ROUND(VALUE(SUBSTITUTE(連結実質赤字比率に係る赤字・黒字の構成分析!H$41,"▲", "-")), 2)), NA()) -> #N/A | G29: =IF(ROUND(VALUE(SUBSTITUTE(連結実質赤字比率に係る赤字・黒字の構成分析!H$41,"▲", "-")), 2) >= 0, ABS(ROUND(VALUE(SUBSTITUTE(連結実質赤字比率に係る赤字・黒字の構成分析!H$41,"▲", "-")), 2)), NA()) -> 0.06 | H29: =IF(ROUND(VALUE(SUBSTITUTE(連結実質赤字比率に係る赤字・黒字の構成分析!I$41,"▲", "-")), 2) < 0, ABS(ROUND(VALUE(SUBSTITUTE(連結実質赤字比率に係る赤字・黒字の構成分析!I$41,"▲", "-")), 2)), NA()) -> #N/A | I29: =IF(ROUND(VALUE(SUBSTITUTE(連結実質赤字比率に係る赤字・黒字の構成分析!I$41,"▲", "-")), 2) >= 0, ABS(ROUND(VALUE(SUBSTITUTE(連結実質赤字比率に係る赤字・黒字の構成分析!I$41,"▲", "-")), 2)), NA()) -> 0.04 | J29: =IF(ROUND(VALUE(SUBSTITUTE(連結実質赤字比率に係る赤字・黒字の構成分析!J$41,"▲", "-")), 2) < 0, ABS(ROUND(VALUE(SUBSTITUTE(連結実質赤字比率に係る赤字・黒字の構成分析!J$41,"▲", "-")), 2)), NA()) -> #N/A | K29: =IF(ROUND(VALUE(SUBSTITUTE(連結実質赤字比率に係る赤字・黒字の構成分析!J$41,"▲", "-")), 2) >= 0, ABS(ROUND(VALUE(SUBSTITUTE(連結実質赤字比率に係る赤字・黒字の構成分析!J$41,"▲", "-")), 2)), NA()) -> 0.04
A30: =IF(連結実質赤字比率に係る赤字・黒字の構成分析!C$40="",NA(),連結実質赤字比率に係る赤字・黒字の構成分析!C$40) -> 観光施設事業特別会計 | B30: =IF(ROUND(VALUE(SUBSTITUTE(連結実質赤字比率に係る赤字・黒字の構成分析!F$40,"▲", "-")), 2) < 0, ABS(ROUND(VALUE(SUBSTITUTE(連結実質赤字比率に係る赤字・黒字の構成分析!F$40,"▲", "-")), 2)), NA()) -> #N/A | C30: =IF(ROUND(VALUE(SUBSTITUTE(連結実質赤字比率に係る赤字・黒字の構成分析!F$40,"▲", "-")), 2) >= 0, ABS(ROUND(VALUE(SUBSTITUTE(連結実質赤字比率に係る赤字・黒字の構成分析!F$40,"▲", "-")), 2)), NA()) -> 0 | D30: =IF(ROUND(VALUE(SUBSTITUTE(連結実質赤字比率に係る赤字・黒字の構成分析!G$40,"▲", "-")), 2) < 0, ABS(ROUND(VALUE(SUBSTITUTE(連結実質赤字比率に係る赤字・黒字の構成分析!G$40,"▲", "-")), 2)), NA()) -> #N/A | E30: =IF(ROUND(VALUE(SUBSTITUTE(連結実質赤字比率に係る赤字・黒字の構成分析!G$40,"▲", "-")), 2) >= 0, ABS(ROUND(VALUE(SUBSTITUTE(連結実質赤字比率に係る赤字・黒字の構成分析!G$40,"▲", "-")), 2)), NA()) -> 0 | F30: =IF(ROUND(VALUE(SUBSTITUTE(連結実質赤字比率に係る赤字・黒字の構成分析!H$40,"▲", "-")), 2) < 0, ABS(ROUND(VALUE(SUBSTITUTE(連結実質赤字比率に係る赤字・黒字の構成分析!H$40,"▲", "-")), 2)), NA()) -> #N/A | G30: =IF(ROUND(VALUE(SUBSTITUTE(連結実質赤字比率に係る赤字・黒字の構成分析!H$40,"▲", "-")), 2) >= 0, ABS(ROUND(VALUE(SUBSTITUTE(連結実質赤字比率に係る赤字・黒字の構成分析!H$40,"▲", "-")), 2)), NA()) -> 0 | H30: =IF(ROUND(VALUE(SUBSTITUTE(連結実質赤字比率に係る赤字・黒字の構成分析!I$40,"▲", "-")), 2) < 0, ABS(ROUND(VALUE(SUBSTITUTE(連結実質赤字比率に係る赤字・黒字の構成分析!I$40,"▲", "-")), 2)), NA()) -> #N/A | I30: =IF(ROUND(VALUE(SUBSTITUTE(連結実質赤字比率に係る赤字・黒字の構成分析!I$40,"▲", "-")), 2) >= 0, ABS(ROUND(VALUE(SUBSTITUTE(連結実質赤字比率に係る赤字・黒字の構成分析!I$40,"▲", "-")), 2)), NA()) -> 0.02 | J30: =IF(ROUND(VALUE(SUBSTITUTE(連結実質赤字比率に係る赤字・黒字の構成分析!J$40,"▲", "-")), 2) < 0, ABS(ROUND(VALUE(SUBSTITUTE(連結実質赤字比率に係る赤字・黒字の構成分析!J$40,"▲", "-")), 2)), NA()) -> #N/A | K30: =IF(ROUND(VALUE(SUBSTITUTE(連結実質赤字比率に係る赤字・黒字の構成分析!J$40,"▲", "-")), 2) >= 0, ABS(ROUND(VALUE(SUBSTITUTE(連結実質赤字比率に係る赤字・黒字の構成分析!J$40,"▲", "-")), 2)), NA()) -> 0.05
A31: =IF(連結実質赤字比率に係る赤字・黒字の構成分析!C$39="",NA(),連結実質赤字比率に係る赤字・黒字の構成分析!C$39) -> 国民健康保険事業特別会計 | B31: =IF(ROUND(VALUE(SUBSTITUTE(連結実質赤字比率に係る赤字・黒字の構成分析!F$39,"▲", "-")), 2) < 0, ABS(ROUND(VALUE(SUBSTITUTE(連結実質赤字比率に係る赤字・黒字の構成分析!F$39,"▲", "-")), 2)), NA()) -> #N/A | C31: =IF(ROUND(VALUE(SUBSTITUTE(連結実質赤字比率に係る赤字・黒字の構成分析!F$39,"▲", "-")), 2) >= 0, ABS(ROUND(VALUE(SUBSTITUTE(連結実質赤字比率に係る赤字・黒字の構成分析!F$39,"▲", "-")), 2)), NA()) -> 0.12 | D31: =IF(ROUND(VALUE(SUBSTITUTE(連結実質赤字比率に係る赤字・黒字の構成分析!G$39,"▲", "-")), 2) < 0, ABS(ROUND(VALUE(SUBSTITUTE(連結実質赤字比率に係る赤字・黒字の構成分析!G$39,"▲", "-")), 2)), NA()) -> #N/A | E31: =IF(ROUND(VALUE(SUBSTITUTE(連結実質赤字比率に係る赤字・黒字の構成分析!G$39,"▲", "-")), 2) >= 0, ABS(ROUND(VALUE(SUBSTITUTE(連結実質赤字比率に係る赤字・黒字の構成分析!G$39,"▲", "-")), 2)), NA()) -> 0.32 | F31: =IF(ROUND(VALUE(SUBSTITUTE(連結実質赤字比率に係る赤字・黒字の構成分析!H$39,"▲", "-")), 2) < 0, ABS(ROUND(VALUE(SUBSTITUTE(連結実質赤字比率に係る赤字・黒字の構成分析!H$39,"▲", "-")), 2)), NA()) -> #N/A | G31: =IF(ROUND(VALUE(SUBSTITUTE(連結実質赤字比率に係る赤字・黒字の構成分析!H$39,"▲", "-")), 2) >= 0, ABS(ROUND(VALUE(SUBSTITUTE(連結実質赤字比率に係る赤字・黒字の構成分析!H$39,"▲", "-")), 2)), NA()) -> 0.31 | H31: =IF(ROUND(VALUE(SUBSTITUTE(連結実質赤字比率に係る赤字・黒字の構成分析!I$39,"▲", "-")), 2) < 0, ABS(ROUND(VALUE(SUBSTITUTE(連結実質赤字比率に係る赤字・黒字の構成分析!I$39,"▲", "-")), 2)), NA()) -> #N/A | I31: =IF(ROUND(VALUE(SUBSTITUTE(連結実質赤字比率に係る赤字・黒字の構成分析!I$39,"▲", "-")), 2) >= 0, ABS(ROUND(VALUE(SUBSTITUTE(連結実質赤字比率に係る赤字・黒字の構成分析!I$39,"▲", "-")), 2)), NA()) -> 0.12 | J31: =IF(ROUND(VALUE(SUBSTITUTE(連結実質赤字比率に係る赤字・黒字の構成分析!J$39,"▲", "-")), 2) < 0, ABS(ROUND(VALUE(SUBSTITUTE(連結実質赤字比率に係る赤字・黒字の構成分析!J$39,"▲", "-")), 2)), NA()) -> #N/A | K31: =IF(ROUND(VALUE(SUBSTITUTE(連結実質赤字比率に係る赤字・黒字の構成分析!J$39,"▲", "-")), 2) >= 0, ABS(ROUND(VALUE(SUBSTITUTE(連結実質赤字比率に係る赤字・黒字の構成分析!J$39,"▲", "-")), 2)), NA()) -> 0.21
A32: =IF(連結実質赤字比率に係る赤字・黒字の構成分析!C$38="",NA(),連結実質赤字比率に係る赤字・黒字の構成分析!C$38) -> 後期高齢者医療事業特別会計 | B32: =IF(ROUND(VALUE(SUBSTITUTE(連結実質赤字比率に係る赤字・黒字の構成分析!F$38,"▲", "-")), 2) < 0, ABS(ROUND(VALUE(SUBSTITUTE(連結実質赤字比率に係る赤字・黒字の構成分析!F$38,"▲", "-")), 2)), NA()) -> #N/A | C32: =IF(ROUND(VALUE(SUBSTITUTE(連結実質赤字比率に係る赤字・黒字の構成分析!F$38,"▲", "-")), 2) >= 0, ABS(ROUND(VALUE(SUBSTITUTE(連結実質赤字比率に係る赤字・黒字の構成分析!F$38,"▲", "-")), 2)), NA()) -> 0.06 | D32: =IF(ROUND(VALUE(SUBSTITUTE(連結実質赤字比率に係る赤字・黒字の構成分析!G$38,"▲", "-")), 2) < 0, ABS(ROUND(VALUE(SUBSTITUTE(連結実質赤字比率に係る赤字・黒字の構成分析!G$38,"▲", "-")), 2)), NA()) -> #N/A | E32: =IF(ROUND(VALUE(SUBSTITUTE(連結実質赤字比率に係る赤字・黒字の構成分析!G$38,"▲", "-")), 2) >= 0, ABS(ROUND(VALUE(SUBSTITUTE(連結実質赤字比率に係る赤字・黒字の構成分析!G$38,"▲", "-")), 2)), NA()) -> 0.02 | F32: =IF(ROUND(VALUE(SUBSTITUTE(連結実質赤字比率に係る赤字・黒字の構成分析!H$38,"▲", "-")), 2) < 0, ABS(ROUND(VALUE(SUBSTITUTE(連結実質赤字比率に係る赤字・黒字の構成分析!H$38,"▲", "-")), 2)), NA()) -> #N/A | G32: =IF(ROUND(VALUE(SUBSTITUTE(連結実質赤字比率に係る赤字・黒字の構成分析!H$38,"▲", "-")), 2) >= 0, ABS(ROUND(VALUE(SUBSTITUTE(連結実質赤字比率に係る赤字・黒字の構成分析!H$38,"▲", "-")), 2)), NA()) -> 0.02 | H32: =IF(ROUND(VALUE(SUBSTITUTE(連結実質赤字比率に係る赤字・黒字の構成分析!I$38,"▲", "-")), 2) < 0, ABS(ROUND(VALUE(SUBSTITUTE(連結実質赤字比率に係る赤字・黒字の構成分析!I$38,"▲", "-")), 2)), NA()) -> #N/A | I32: =IF(ROUND(VALUE(SUBSTITUTE(連結実質赤字比率に係る赤字・黒字の構成分析!I$38,"▲", "-")), 2) >= 0, ABS(ROUND(VALUE(SUBSTITUTE(連結実質赤字比率に係る赤字・黒字の構成分析!I$38,"▲", "-")), 2)), NA()) -> 0.16 | J32: =IF(ROUND(VALUE(SUBSTITUTE(連結実質赤字比率に係る赤字・黒字の構成分析!J$38,"▲", "-")), 2) < 0, ABS(ROUND(VALUE(SUBSTITUTE(連結実質赤字比率に係る赤字・黒字の構成分析!J$38,"▲", "-")), 2)), NA()) -> #N/A | K32: =IF(ROUND(VALUE(SUBSTITUTE(連結実質赤字比率に係る赤字・黒字の構成分析!J$38,"▲", "-")), 2) >= 0, ABS(ROUND(VALUE(SUBSTITUTE(連結実質赤字比率に係る赤字・黒字の構成分析!J$38,"▲", "-")), 2)), NA()) -> 0.25
A33: =IF(連結実質赤字比率に係る赤字・黒字の構成分析!C$37="",NA(),連結実質赤字比率に係る赤字・黒字の構成分析!C$37) -> 介護保険事業特別会計 | B33: =IF(ROUND(VALUE(SUBSTITUTE(連結実質赤字比率に係る赤字・黒字の構成分析!F$37,"▲", "-")), 2) < 0, ABS(ROUND(VALUE(SUBSTITUTE(連結実質赤字比率に係る赤字・黒字の構成分析!F$37,"▲", "-")), 2)), NA()) -> #N/A | C33: =IF(ROUND(VALUE(SUBSTITUTE(連結実質赤字比率に係る赤字・黒字の構成分析!F$37,"▲", "-")), 2) >= 0, ABS(ROUND(VALUE(SUBSTITUTE(連結実質赤字比率に係る赤字・黒字の構成分析!F$37,"▲", "-")), 2)), NA()) -> 1.25 | D33: =IF(ROUND(VALUE(SUBSTITUTE(連結実質赤字比率に係る赤字・黒字の構成分析!G$37,"▲", "-")), 2) < 0, ABS(ROUND(VALUE(SUBSTITUTE(連結実質赤字比率に係る赤字・黒字の構成分析!G$37,"▲", "-")), 2)), NA()) -> #N/A | E33: =IF(ROUND(VALUE(SUBSTITUTE(連結実質赤字比率に係る赤字・黒字の構成分析!G$37,"▲", "-")), 2) >= 0, ABS(ROUND(VALUE(SUBSTITUTE(連結実質赤字比率に係る赤字・黒字の構成分析!G$37,"▲", "-")), 2)), NA()) -> 1.14 | F33: =IF(ROUND(VALUE(SUBSTITUTE(連結実質赤字比率に係る赤字・黒字の構成分析!H$37,"▲", "-")), 2) < 0, ABS(ROUND(VALUE(SUBSTITUTE(連結実質赤字比率に係る赤字・黒字の構成分析!H$37,"▲", "-")), 2)), NA()) -> #N/A | G33: =IF(ROUND(VALUE(SUBSTITUTE(連結実質赤字比率に係る赤字・黒字の構成分析!H$37,"▲", "-")), 2) >= 0, ABS(ROUND(VALUE(SUBSTITUTE(連結実質赤字比率に係る赤字・黒字の構成分析!H$37,"▲", "-")), 2)), NA()) -> 1.29 | H33: =IF(ROUND(VALUE(SUBSTITUTE(連結実質赤字比率に係る赤字・黒字の構成分析!I$37,"▲", "-")), 2) < 0, ABS(ROUND(VALUE(SUBSTITUTE(連結実質赤字比率に係る赤字・黒字の構成分析!I$37,"▲", "-")), 2)), NA()) -> #N/A | I33: =IF(ROUND(VALUE(SUBSTITUTE(連結実質赤字比率に係る赤字・黒字の構成分析!I$37,"▲", "-")), 2) >= 0, ABS(ROUND(VALUE(SUBSTITUTE(連結実質赤字比率に係る赤字・黒字の構成分析!I$37,"▲", "-")), 2)), NA()) -> 1.02 | J33: =IF(ROUND(VALUE(SUBSTITUTE(連結実質赤字比率に係る赤字・黒字の構成分析!J$37,"▲", "-")), 2) < 0, ABS(ROUND(VALUE(SUBSTITUTE(連結実質赤字比率に係る赤字・黒字の構成分析!J$37,"▲", "-")), 2)), NA()) -> #N/A | K33: =IF(ROUND(VALUE(SUBSTITUTE(連結実質赤字比率に係る赤字・黒字の構成分析!J$37,"▲", "-")), 2) >= 0, ABS(ROUND(VALUE(SUBSTITUTE(連結実質赤字比率に係る赤字・黒字の構成分析!J$37,"▲", "-")), 2)), NA()) -> 0.88
A34: =IF(連結実質赤字比率に係る赤字・黒字の構成分析!C$36="",NA(),連結実質赤字比率に係る赤字・黒字の構成分析!C$36) -> 一般会計 | B34: =IF(ROUND(VALUE(SUBSTITUTE(連結実質赤字比率に係る赤字・黒字の構成分析!F$36,"▲", "-")), 2) < 0, ABS(ROUND(VALUE(SUBSTITUTE(連結実質赤字比率に係る赤字・黒字の構成分析!F$36,"▲", "-")), 2)), NA()) -> #N/A | C34: =IF(ROUND(VALUE(SUBSTITUTE(連結実質赤字比率に係る赤字・黒字の構成分析!F$36,"▲", "-")), 2) >= 0, ABS(ROUND(VALUE(SUBSTITUTE(連結実質赤字比率に係る赤字・黒字の構成分析!F$36,"▲", "-")), 2)), NA()) -> 2.56 | D34: =IF(ROUND(VALUE(SUBSTITUTE(連結実質赤字比率に係る赤字・黒字の構成分析!G$36,"▲", "-")), 2) < 0, ABS(ROUND(VALUE(SUBSTITUTE(連結実質赤字比率に係る赤字・黒字の構成分析!G$36,"▲", "-")), 2)), NA()) -> #N/A | E34: =IF(ROUND(VALUE(SUBSTITUTE(連結実質赤字比率に係る赤字・黒字の構成分析!G$36,"▲", "-")), 2) >= 0, ABS(ROUND(VALUE(SUBSTITUTE(連結実質赤字比率に係る赤字・黒字の構成分析!G$36,"▲", "-")), 2)), NA()) -> 2.69 | F34: =IF(ROUND(VALUE(SUBSTITUTE(連結実質赤字比率に係る赤字・黒字の構成分析!H$36,"▲", "-")), 2) < 0, ABS(ROUND(VALUE(SUBSTITUTE(連結実質赤字比率に係る赤字・黒字の構成分析!H$36,"▲", "-")), 2)), NA()) -> #N/A | G34: =IF(ROUND(VALUE(SUBSTITUTE(連結実質赤字比率に係る赤字・黒字の構成分析!H$36,"▲", "-")), 2) >= 0, ABS(ROUND(VALUE(SUBSTITUTE(連結実質赤字比率に係る赤字・黒字の構成分析!H$36,"▲", "-")), 2)), NA()) -> 6.78 | H34: =IF(ROUND(VALUE(SUBSTITUTE(連結実質赤字比率に係る赤字・黒字の構成分析!I$36,"▲", "-")), 2) < 0, ABS(ROUND(VALUE(SUBSTITUTE(連結実質赤字比率に係る赤字・黒字の構成分析!I$36,"▲", "-")), 2)), NA()) -> #N/A | I34: =IF(ROUND(VALUE(SUBSTITUTE(連結実質赤字比率に係る赤字・黒字の構成分析!I$36,"▲", "-")), 2) >= 0, ABS(ROUND(VALUE(SUBSTITUTE(連結実質赤字比率に係る赤字・黒字の構成分析!I$36,"▲", "-")), 2)), NA()) -> 4.97 | J34: =IF(ROUND(VALUE(SUBSTITUTE(連結実質赤字比率に係る赤字・黒字の構成分析!J$36,"▲", "-")), 2) < 0, ABS(ROUND(VALUE(SUBSTITUTE(連結実質赤字比率に係る赤字・黒字の構成分析!J$36,"▲", "-")), 2)), NA()) -> #N/A | K34: =IF(ROUND(VALUE(SUBSTITUTE(連結実質赤字比率に係る赤字・黒字の構成分析!J$36,"▲", "-")), 2) >= 0, ABS(ROUND(VALUE(SUBSTITUTE(連結実質赤字比率に係る赤字・黒字の構成分析!J$36,"▲", "-")), 2)), NA()) -> 1.11
A35: =IF(連結実質赤字比率に係る赤字・黒字の構成分析!C$35="",NA(),連結実質赤字比率に係る赤字・黒字の構成分析!C$35) -> 水道事業会計 | B35: =IF(ROUND(VALUE(SUBSTITUTE(連結実質赤字比率に係る赤字・黒字の構成分析!F$35,"▲", "-")), 2) < 0, ABS(ROUND(VALUE(SUBSTITUTE(連結実質赤字比率に係る赤字・黒字の構成分析!F$35,"▲", "-")), 2)), NA()) -> #N/A | C35: =IF(ROUND(VALUE(SUBSTITUTE(連結実質赤字比率に係る赤字・黒字の構成分析!F$35,"▲", "-")), 2) >= 0, ABS(ROUND(VALUE(SUBSTITUTE(連結実質赤字比率に係る赤字・黒字の構成分析!F$35,"▲", "-")), 2)), NA()) -> 14.52 | D35: =IF(ROUND(VALUE(SUBSTITUTE(連結実質赤字比率に係る赤字・黒字の構成分析!G$35,"▲", "-")), 2) < 0, ABS(ROUND(VALUE(SUBSTITUTE(連結実質赤字比率に係る赤字・黒字の構成分析!G$35,"▲", "-")), 2)), NA()) -> #N/A | E35: =IF(ROUND(VALUE(SUBSTITUTE(連結実質赤字比率に係る赤字・黒字の構成分析!G$35,"▲", "-")), 2) >= 0, ABS(ROUND(VALUE(SUBSTITUTE(連結実質赤字比率に係る赤字・黒字の構成分析!G$35,"▲", "-")), 2)), NA()) -> 14.12 | F35: =IF(ROUND(VALUE(SUBSTITUTE(連結実質赤字比率に係る赤字・黒字の構成分析!H$35,"▲", "-")), 2) < 0, ABS(ROUND(VALUE(SUBSTITUTE(連結実質赤字比率に係る赤字・黒字の構成分析!H$35,"▲", "-")), 2)), NA()) -> #N/A | G35: =IF(ROUND(VALUE(SUBSTITUTE(連結実質赤字比率に係る赤字・黒字の構成分析!H$35,"▲", "-")), 2) >= 0, ABS(ROUND(VALUE(SUBSTITUTE(連結実質赤字比率に係る赤字・黒字の構成分析!H$35,"▲", "-")), 2)), NA()) -> 13.83 | H35: =IF(ROUND(VALUE(SUBSTITUTE(連結実質赤字比率に係る赤字・黒字の構成分析!I$35,"▲", "-")), 2) < 0, ABS(ROUND(VALUE(SUBSTITUTE(連結実質赤字比率に係る赤字・黒字の構成分析!I$35,"▲", "-")), 2)), NA()) -> #N/A | I35: =IF(ROUND(VALUE(SUBSTITUTE(連結実質赤字比率に係る赤字・黒字の構成分析!I$35,"▲", "-")), 2) >= 0, ABS(ROUND(VALUE(SUBSTITUTE(連結実質赤字比率に係る赤字・黒字の構成分析!I$35,"▲", "-")), 2)), NA()) -> 13.74 | J35: =IF(ROUND(VALUE(SUBSTITUTE(連結実質赤字比率に係る赤字・黒字の構成分析!J$35,"▲", "-")), 2) < 0, ABS(ROUND(VALUE(SUBSTITUTE(連結実質赤字比率に係る赤字・黒字の構成分析!J$35,"▲", "-")), 2)), NA()) -> #N/A | K35: =IF(ROUND(VALUE(SUBSTITUTE(連結実質赤字比率に係る赤字・黒字の構成分析!J$35,"▲", "-")), 2) >= 0, ABS(ROUND(VALUE(SUBSTITUTE(連結実質赤字比率に係る赤字・黒字の構成分析!J$35,"▲", "-")), 2)), NA()) -> 12.73
A36: =IF(連結実質赤字比率に係る赤字・黒字の構成分析!C$34="",NA(),連結実質赤字比率に係る赤字・黒字の構成分析!C$34) -> 下水道事業会計 | B36: =IF(ROUND(VALUE(SUBSTITUTE(連結実質赤字比率に係る赤字・黒字の構成分析!F$34,"▲", "-")), 2) < 0, ABS(ROUND(VALUE(SUBSTITUTE(連結実質赤字比率に係る赤字・黒字の構成分析!F$34,"▲", "-")), 2)), NA()) -> #N/A | C36: =IF(ROUND(VALUE(SUBSTITUTE(連結実質赤字比率に係る赤字・黒字の構成分析!F$34,"▲", "-")), 2) >= 0, ABS(ROUND(VALUE(SUBSTITUTE(連結実質赤字比率に係る赤字・黒字の構成分析!F$34,"▲", "-")), 2)), NA()) -> 9.5 | D36: =IF(ROUND(VALUE(SUBSTITUTE(連結実質赤字比率に係る赤字・黒字の構成分析!G$34,"▲", "-")), 2) < 0, ABS(ROUND(VALUE(SUBSTITUTE(連結実質赤字比率に係る赤字・黒字の構成分析!G$34,"▲", "-")), 2)), NA()) -> #N/A | E36: =IF(ROUND(VALUE(SUBSTITUTE(連結実質赤字比率に係る赤字・黒字の構成分析!G$34,"▲", "-")), 2) >= 0, ABS(ROUND(VALUE(SUBSTITUTE(連結実質赤字比率に係る赤字・黒字の構成分析!G$34,"▲", "-")), 2)), NA()) -> 10.13 | F36: =IF(ROUND(VALUE(SUBSTITUTE(連結実質赤字比率に係る赤字・黒字の構成分析!H$34,"▲", "-")), 2) < 0, ABS(ROUND(VALUE(SUBSTITUTE(連結実質赤字比率に係る赤字・黒字の構成分析!H$34,"▲", "-")), 2)), NA()) -> #N/A | G36: =IF(ROUND(VALUE(SUBSTITUTE(連結実質赤字比率に係る赤字・黒字の構成分析!H$34,"▲", "-")), 2) >= 0, ABS(ROUND(VALUE(SUBSTITUTE(連結実質赤字比率に係る赤字・黒字の構成分析!H$34,"▲", "-")), 2)), NA()) -> 11.22 | H36: =IF(ROUND(VALUE(SUBSTITUTE(連結実質赤字比率に係る赤字・黒字の構成分析!I$34,"▲", "-")), 2) < 0, ABS(ROUND(VALUE(SUBSTITUTE(連結実質赤字比率に係る赤字・黒字の構成分析!I$34,"▲", "-")), 2)), NA()) -> #N/A | I36: =IF(ROUND(VALUE(SUBSTITUTE(連結実質赤字比率に係る赤字・黒字の構成分析!I$34,"▲", "-")), 2) >= 0, ABS(ROUND(VALUE(SUBSTITUTE(連結実質赤字比率に係る赤字・黒字の構成分析!I$34,"▲", "-")), 2)), NA()) -> 12.42 | J36: =IF(ROUND(VALUE(SUBSTITUTE(連結実質赤字比率に係る赤字・黒字の構成分析!J$34,"▲", "-")), 2) < 0, ABS(ROUND(VALUE(SUBSTITUTE(連結実質赤字比率に係る赤字・黒字の構成分析!J$34,"▲", "-")), 2)), NA()) -> #N/A | K36: =IF(ROUND(VALUE(SUBSTITUTE(連結実質赤字比率に係る赤字・黒字の構成分析!J$34,"▲", "-")), 2) >= 0, ABS(ROUND(VALUE(SUBSTITUTE(連結実質赤字比率に係る赤字・黒字の構成分析!J$34,"▲", "-")), 2)), NA()) -> 12.75
A39: 実質公債費比率（分子）の構造
B40: ='実質公債費比率（分子）の構造'!K$44 -> R02 | E40: ='実質公債費比率（分子）の構造'!L$44 -> R03 | H40: ='実質公債費比率（分子）の構造'!M$44 -> R04 | K40: ='実質公債費比率（分子）の構造'!N$44 -> R05 | N40: ='実質公債費比率（分子）の構造'!O$44 -> R06
B41: 元利償還金等 | D41: 算入公債費等 | E41: 元利償還金等 | G41: 算入公債費等 | H41: 元利償還金等 | J41: 算入公債費等 | K41: 元利償還金等 | M41: 算入公債費等 | N41: 元利償還金等 | P41: 算入公債費等
A42: 算入公債費等 | D42: ='実質公債費比率（分子）の構造'!K$52 -> 21051 | G42: ='実質公債費比率（分子）の構造'!L$52 -> 20411 | J42: ='実質公債費比率（分子）の構造'!M$52 -> 21274 | M42: ='実質公債費比率（分子）の構造'!N$52 -> 21437 | P42: ='実質公債費比率（分子）の構造'!O$52 -> 21936
A43: 一時借入金の利子 | B43: ='実質公債費比率（分子）の構造'!K$51 -> 0 | E43: ='実質公債費比率（分子）の構造'!L$51 -> 0 | H43: ='実質公債費比率（分子）の構造'!M$51 -> 0 | K43: ='実質公債費比率（分子）の構造'!N$51 -> 0 | N43: ='実質公債費比率（分子）の構造'!O$51 -> 1
A44: 債務負担行為に基づく支出額 | B44: ='実質公債費比率（分子）の構造'!K$50 -> 59 | E44: ='実質公債費比率（分子）の構造'!L$50 -> 59 | H44: ='実質公債費比率（分子）の構造'!M$50 -> 94 | K44: ='実質公債費比率（分子）の構造'!N$50 -> 22 | N44: ='実質公債費比率（分子）の構造'!O$50 -> 25
A45: 組合等が起こした地方債の元利償還金に対する負担金等 | B45: ='実質公債費比率（分子）の構造'!K$49 -> - | E45: ='実質公債費比率（分子）の構造'!L$49 -> - | H45: ='実質公債費比率（分子）の構造'!M$49 -> - | K45: ='実質公債費比率（分子）の構造'!N$49 -> - | N45: ='実質公債費比率（分子）の構造'!O$49 -> -
A46: 公営企業債の元利償還金に対する繰入金 | B46: ='実質公債費比率（分子）の構造'!K$48 -> 4966 | E46: ='実質公債費比率（分子）の構造'!L$48 -> 4738 | H46: ='実質公債費比率（分子）の構造'!M$48 -> 4480 | K46: ='実質公債費比率（分子）の構造'!N$48 -> 4273 | N46: ='実質公債費比率（分子）の構造'!O$48 -> 4126
A47: 満期一括償還地方債に係る年度割相当額 | B47: ='実質公債費比率（分子）の構造'!K$47 -> - | E47: ='実質公債費比率（分子）の構造'!L$47 -> - | H47: ='実質公債費比率（分子）の構造'!M$47 -> - | K47: ='実質公債費比率（分子）の構造'!N$47 -> - | N47: ='実質公債費比率（分子）の構造'!O$47 -> -
...
